BEGIN:VCALENDAR
VERSION:2.0
PRODID:-//Christ Presbyterian Preschool - ECPv6.15.17//NONSGML v1.0//EN
CALSCALE:GREGORIAN
METHOD:PUBLISH
X-ORIGINAL-URL:https://www.cpp.cpcfairfax.org
X-WR-CALDESC:Events for Christ Presbyterian Preschool
REFRESH-INTERVAL;VALUE=DURATION:PT1H
X-Robots-Tag:noindex
X-PUBLISHED-TTL:PT1H
BEGIN:VTIMEZONE
TZID:UTC
BEGIN:STANDARD
TZOFFSETFROM:+0000
TZOFFSETTO:+0000
TZNAME:UTC
DTSTART:20250101T000000
END:STANDARD
END:VTIMEZONE
BEGIN:VEVENT
DTSTART;VALUE=DATE:20260105
DTEND;VALUE=DATE:20260106
DTSTAMP:20260422T183014
CREATED:20260120T163559Z
LAST-MODIFIED:20260120T163559Z
UID:3938-1767571200-1767657599@www.cpp.cpcfairfax.org
SUMMARY:School Resumes After Winter Break
DESCRIPTION:
URL:https://www.cpp.cpcfairfax.org/event/school-resumes-after-winter-break/
END:VEVENT
BEGIN:VEVENT
DTSTART;TZID=UTC:20260120T080000
DTEND;TZID=UTC:20260120T170000
DTSTAMP:20260422T183014
CREATED:20260120T163643Z
LAST-MODIFIED:20260120T163643Z
UID:3940-1768896000-1768928400@www.cpp.cpcfairfax.org
SUMMARY:CPP Closed - MLK\, Jr Day
DESCRIPTION:
URL:https://www.cpp.cpcfairfax.org/event/cpp-closed-mlk-jr-day/
END:VEVENT
BEGIN:VEVENT
DTSTART;VALUE=DATE:20260129
DTEND;VALUE=DATE:20260130
DTSTAMP:20260422T183014
CREATED:20260120T163343Z
LAST-MODIFIED:20260120T163437Z
UID:3933-1769644800-1769731199@www.cpp.cpcfairfax.org
SUMMARY:CPP Closed - FCPS Teacher Workday
DESCRIPTION:
URL:https://www.cpp.cpcfairfax.org/event/preschool-closed-teacher-workdays/
END:VEVENT
BEGIN:VEVENT
DTSTART;VALUE=DATE:20260130
DTEND;VALUE=DATE:20260131
DTSTAMP:20260422T183014
CREATED:20260120T163513Z
LAST-MODIFIED:20260120T163513Z
UID:3936-1769731200-1769817599@www.cpp.cpcfairfax.org
SUMMARY:CPP Closed - FCPS Teacher Workday
DESCRIPTION:
URL:https://www.cpp.cpcfairfax.org/event/cpp-closed-fcps-teacher-workday/
END:VEVENT
END:VCALENDAR